BEGIN:VCALENDAR
VERSION:2.0
PRODID:-//AWG Ambassador - ECPv6.15.11//NONSGML v1.0//EN
CALSCALE:GREGORIAN
METHOD:PUBLISH
X-WR-CALNAME:AWG Ambassador
X-ORIGINAL-URL:https://awgambassador.com
X-WR-CALDESC:Events for AWG Ambassador
REFRESH-INTERVAL;VALUE=DURATION:PT1H
X-Robots-Tag:noindex
X-PUBLISHED-TTL:PT1H
BEGIN:VTIMEZONE
TZID:America/Los_Angeles
BEGIN:DAYLIGHT
TZOFFSETFROM:-0800
TZOFFSETTO:-0700
TZNAME:PDT
DTSTART:20250309T100000
END:DAYLIGHT
BEGIN:STANDARD
TZOFFSETFROM:-0700
TZOFFSETTO:-0800
TZNAME:PST
DTSTART:20251102T090000
END:STANDARD
BEGIN:DAYLIGHT
TZOFFSETFROM:-0800
TZOFFSETTO:-0700
TZNAME:PDT
DTSTART:20260308T100000
END:DAYLIGHT
BEGIN:STANDARD
TZOFFSETFROM:-0700
TZOFFSETTO:-0800
TZNAME:PST
DTSTART:20261101T090000
END:STANDARD
BEGIN:DAYLIGHT
TZOFFSETFROM:-0800
TZOFFSETTO:-0700
TZNAME:PDT
DTSTART:20270314T100000
END:DAYLIGHT
BEGIN:STANDARD
TZOFFSETFROM:-0700
TZOFFSETTO:-0800
TZNAME:PST
DTSTART:20271107T090000
END:STANDARD
END:VTIMEZONE
BEGIN:VEVENT
DTSTART;VALUE=DATE:20260418
DTEND;VALUE=DATE:20260423
DTSTAMP:20260422T030541
CREATED:20260408T082849Z
LAST-MODIFIED:20260408T082849Z
UID:6081-1776470400-1776902399@awgambassador.com
SUMMARY:NAB LVCC
DESCRIPTION:
URL:https://awgambassador.com/event/nab-lvcc/
END:VEVENT
BEGIN:VEVENT
DTSTART;VALUE=DATE:20260420
DTEND;VALUE=DATE:20260424
DTSTAMP:20260422T030541
CREATED:20260408T082914Z
LAST-MODIFIED:20260408T082914Z
UID:6083-1776643200-1776988799@awgambassador.com
SUMMARY:World of Modular LVCC
DESCRIPTION:
URL:https://awgambassador.com/event/world-of-modular-lvcc/
END:VEVENT
BEGIN:VEVENT
DTSTART;VALUE=DATE:20260422
DTEND;VALUE=DATE:20260423
DTSTAMP:20260422T030541
CREATED:20260408T082932Z
LAST-MODIFIED:20260408T082932Z
UID:6085-1776816000-1776902399@awgambassador.com
SUMMARY:Administrative Professionals Day
DESCRIPTION:
URL:https://awgambassador.com/event/administrative-professionals-day/
END:VEVENT
BEGIN:VEVENT
DTSTART;VALUE=DATE:20260422
DTEND;VALUE=DATE:20260423
DTSTAMP:20260422T030541
CREATED:20260408T082945Z
LAST-MODIFIED:20260408T082945Z
UID:6087-1776816000-1776902399@awgambassador.com
SUMMARY:Earth Day
DESCRIPTION:
URL:https://awgambassador.com/event/earth-day/
END:VEVENT
BEGIN:VEVENT
DTSTART;VALUE=DATE:20260422
DTEND;VALUE=DATE:20260425
DTSTAMP:20260422T030541
CREATED:20260408T083012Z
LAST-MODIFIED:20260408T083012Z
UID:6089-1776816000-1777075199@awgambassador.com
SUMMARY:LeadsCon MGM Grand
DESCRIPTION:
URL:https://awgambassador.com/event/leadscon-mgm-grand/
END:VEVENT
END:VCALENDAR